BEGIN:VCALENDAR
VERSION:2.0
PRODID:-//Tukios.com/
BEGIN:VEVENT
UID:ece383a9-2f14-42f5-9895-3bf9c7769410@www.vwmfh.com
DTSTAMP:20260422T030304Z
DTSTART:20260423T200000Z
DTEND:20260423T210000Z
SUMMARY:Funeral Service
DESCRIPTION:
URL:https://www.vwmfh.com/obituaries/marjorie-seward
LOCATION: 714 Main St.  Dresden OH 43821
GEO:40.1216557;-82.0107585
END:VEVENT
END:VCALENDAR