BEGIN:VCALENDAR
VERSION:2.0
PRODID:-//Tukios.com/
BEGIN:VEVENT
UID:0782f455-c041-4f17-be15-b2706ece484f@www.vwmfh.com
DTSTAMP:20260422T030148Z
DTSTART:20260423T190000Z
DTEND:20260423T200000Z
SUMMARY:Visitation
DESCRIPTION:
URL:https://www.vwmfh.com/obituaries/marjorie-seward
LOCATION: 714 Main St.  Dresden OH 43821
GEO:40.1216557;-82.0107585
END:VEVENT
END:VCALENDAR