BEGIN:VCALENDAR
VERSION:2.0
PRODID:-//Tukios.com/
BEGIN:VEVENT
UID:7683324b-bbcf-4dcb-8b50-c2a677ff3711@www.vwmfh.com
DTSTAMP:20260422T002824Z
DTSTART:20260424T170000Z
DTEND:20260424T180000Z
SUMMARY:Funeral Service
DESCRIPTION:
URL:https://www.vwmfh.com/obituaries/hallie-dudley
LOCATION:Vensil | Wagner | Marshall Funeral Homes 110 West 3rd Street  
	Frazeysburg OH 43822
GEO:40.119108;-82.118653
END:VEVENT
END:VCALENDAR