BEGIN:VCALENDAR
VERSION:2.0
PRODID:-//Tukios.com/
BEGIN:VEVENT
UID:c4a11ee0-2335-4a5c-9f3a-1c33204b29fd@www.vwmfh.com
DTSTAMP:20260422T003339Z
DTSTART:20260423T210000Z
DTEND:20260424T000000Z
SUMMARY:Visitation
DESCRIPTION:
URL:https://www.vwmfh.com/obituaries/hallie-dudley
LOCATION:Frazeysburg Chapel of Vensil | Wagner | Marshall Funeral Homes 
	110 West 3rd Street  Frazeysburg OH 43822
GEO:40.119108;-82.118653
END:VEVENT
END:VCALENDAR